BEGIN:VCALENDAR
VERSION:2.0
PRODID:-//David&#039;s Refuge - ECPv6.15.17.1//NONSGML v1.0//EN
CALSCALE:GREGORIAN
METHOD:PUBLISH
X-WR-CALNAME:David&#039;s Refuge
X-ORIGINAL-URL:https://www.davidsrefuge.org
X-WR-CALDESC:Events for David&#039;s Refuge
REFRESH-INTERVAL;VALUE=DURATION:PT1H
X-Robots-Tag:noindex
X-PUBLISHED-TTL:PT1H
BEGIN:VTIMEZONE
TZID:America/New_York
BEGIN:DAYLIGHT
TZOFFSETFROM:-0500
TZOFFSETTO:-0400
TZNAME:EDT
DTSTART:20230312T070000
END:DAYLIGHT
BEGIN:STANDARD
TZOFFSETFROM:-0400
TZOFFSETTO:-0500
TZNAME:EST
DTSTART:20231105T060000
END:STANDARD
BEGIN:DAYLIGHT
TZOFFSETFROM:-0500
TZOFFSETTO:-0400
TZNAME:EDT
DTSTART:20240310T070000
END:DAYLIGHT
BEGIN:STANDARD
TZOFFSETFROM:-0400
TZOFFSETTO:-0500
TZNAME:EST
DTSTART:20241103T060000
END:STANDARD
BEGIN:DAYLIGHT
TZOFFSETFROM:-0500
TZOFFSETTO:-0400
TZNAME:EDT
DTSTART:20250309T070000
END:DAYLIGHT
BEGIN:STANDARD
TZOFFSETFROM:-0400
TZOFFSETTO:-0500
TZNAME:EST
DTSTART:20251102T060000
END:STANDARD
END:VTIMEZONE
BEGIN:VEVENT
DTSTART;VALUE=DATE:20240914
DTEND;VALUE=DATE:20240915
DTSTAMP:20260420T072735
CREATED:20240603T161619Z
LAST-MODIFIED:20240603T161619Z
UID:10000010-1726272000-1726358399@www.davidsrefuge.org
SUMMARY:Pineview Run Champion Challenge 2024
DESCRIPTION:On Sept 14th\, Pineview Run will be hosting the fourth annual Pineview Run Champion Challenge in conjunction with OneGroup to benefit David’s Refuge! \nOneGroup serves their clients with the same level of care that David’s Refuge serve’s their families\, making the partnership an easy fit! We have are working to gather 20 amazing and passionate individuals who secretly dream of becoming professional track drivers and/or want to have some fun to raise money to support caregivers!\nWith that\, we hope you will consider joining or cheering on the amazing drivers below by making a gift to their page and sharing this FUN Event on social media!
URL:https://www.davidsrefuge.org/event/pineview-run-champion-challenge-2024/
LOCATION:NY
CATEGORIES:DR Events
ATTACH;FMTTYPE=image/jpeg:https://www.davidsrefuge.org/wp-content/uploads/2024/06/DR_EVENTS_PineviewRun-1.jpg
END:VEVENT
END:VCALENDAR