BEGIN:VCALENDAR
VERSION:2.0
PRODID:-//David&#039;s Refuge - ECPv6.15.17.1//NONSGML v1.0//EN
CALSCALE:GREGORIAN
METHOD:PUBLISH
X-WR-CALNAME:David&#039;s Refuge
X-ORIGINAL-URL:https://www.davidsrefuge.org
X-WR-CALDESC:Events for David&#039;s Refuge
REFRESH-INTERVAL;VALUE=DURATION:PT1H
X-Robots-Tag:noindex
X-PUBLISHED-TTL:PT1H
BEGIN:VTIMEZONE
TZID:America/New_York
BEGIN:DAYLIGHT
TZOFFSETFROM:-0500
TZOFFSETTO:-0400
TZNAME:EDT
DTSTART:20230312T070000
END:DAYLIGHT
BEGIN:STANDARD
TZOFFSETFROM:-0400
TZOFFSETTO:-0500
TZNAME:EST
DTSTART:20231105T060000
END:STANDARD
BEGIN:DAYLIGHT
TZOFFSETFROM:-0500
TZOFFSETTO:-0400
TZNAME:EDT
DTSTART:20240310T070000
END:DAYLIGHT
BEGIN:STANDARD
TZOFFSETFROM:-0400
TZOFFSETTO:-0500
TZNAME:EST
DTSTART:20241103T060000
END:STANDARD
BEGIN:DAYLIGHT
TZOFFSETFROM:-0500
TZOFFSETTO:-0400
TZNAME:EDT
DTSTART:20250309T070000
END:DAYLIGHT
BEGIN:STANDARD
TZOFFSETFROM:-0400
TZOFFSETTO:-0500
TZNAME:EST
DTSTART:20251102T060000
END:STANDARD
END:VTIMEZONE
BEGIN:VEVENT
DTSTART;VALUE=DATE:20241002
DTEND;VALUE=DATE:20241003
DTSTAMP:20260420T055706
CREATED:20240603T163000Z
LAST-MODIFIED:20240603T163000Z
UID:10000013-1727827200-1727913599@www.davidsrefuge.org
SUMMARY:ROC for Caregivers
DESCRIPTION:We believe in the power of community and collaboration. Together\, with your generous support\, we can bring respite\, wellness\, and community to caregivers!
URL:https://www.davidsrefuge.org/event/roc-for-caregivers/
LOCATION:Comedy at the Carlson\, Rochester\, New York
CATEGORIES:DR Events
ATTACH;FMTTYPE=image/jpeg:https://www.davidsrefuge.org/wp-content/uploads/2024/06/DR_EVENTS_ROCforcaregivers.jpg
END:VEVENT
BEGIN:VEVENT
DTSTART;TZID=America/New_York:20241022T173000
DTEND;TZID=America/New_York:20241022T203000
DTSTAMP:20260420T055706
CREATED:20240916T213227Z
LAST-MODIFIED:20240916T213323Z
UID:10000018-1729618200-1729629000@www.davidsrefuge.org
SUMMARY:Legacy of Love at Noble Cellar
DESCRIPTION:Join our hosts Derek Vargas and Sarah Pelligrini for a night of Love and Legacy at Noble Cellar. The Legacy Event is more than just a gathering; it is a testament to the power of community and the impact of giving. We are thrilled to announce that a generous investor has pledged a $250\,000 gift\, promising to double every donation made. This matching gift will not only amplify the evening’s impact but will also ensure that the legacy of giving will continue for generations to come. Join us for a night where generosity meets opportunity\, and creates lasting legacy for caregivers in our community.
URL:https://www.davidsrefuge.org/event/legacy-of-love-at-noble-cellar/
LOCATION:Noble Cellar\, 304 E. Onondaga Street\, Syracuse\, NY\, 13202\, United States
CATEGORIES:DR Events
ATTACH;FMTTYPE=image/jpeg:https://www.davidsrefuge.org/wp-content/uploads/2024/09/DR_EVENTS_Feat_NobleCellarBanner.jpg
END:VEVENT
END:VCALENDAR