BEGIN:VCALENDAR
VERSION:2.0
PRODID:-//David&#039;s Refuge - ECPv6.15.17.1//NONSGML v1.0//EN
CALSCALE:GREGORIAN
METHOD:PUBLISH
X-WR-CALNAME:David&#039;s Refuge
X-ORIGINAL-URL:https://www.davidsrefuge.org
X-WR-CALDESC:Events for David&#039;s Refuge
REFRESH-INTERVAL;VALUE=DURATION:PT1H
X-Robots-Tag:noindex
X-PUBLISHED-TTL:PT1H
BEGIN:VTIMEZONE
TZID:America/New_York
BEGIN:DAYLIGHT
TZOFFSETFROM:-0500
TZOFFSETTO:-0400
TZNAME:EDT
DTSTART:20230312T070000
END:DAYLIGHT
BEGIN:STANDARD
TZOFFSETFROM:-0400
TZOFFSETTO:-0500
TZNAME:EST
DTSTART:20231105T060000
END:STANDARD
BEGIN:DAYLIGHT
TZOFFSETFROM:-0500
TZOFFSETTO:-0400
TZNAME:EDT
DTSTART:20240310T070000
END:DAYLIGHT
BEGIN:STANDARD
TZOFFSETFROM:-0400
TZOFFSETTO:-0500
TZNAME:EST
DTSTART:20241103T060000
END:STANDARD
BEGIN:DAYLIGHT
TZOFFSETFROM:-0500
TZOFFSETTO:-0400
TZNAME:EDT
DTSTART:20250309T070000
END:DAYLIGHT
BEGIN:STANDARD
TZOFFSETFROM:-0400
TZOFFSETTO:-0500
TZNAME:EST
DTSTART:20251102T060000
END:STANDARD
END:VTIMEZONE
BEGIN:VEVENT
DTSTART;TZID=America/New_York:20240327T170000
DTEND;TZID=America/New_York:20240327T190000
DTSTAMP:20260420T174349
CREATED:20240318T130122Z
LAST-MODIFIED:20240325T152258Z
UID:10000001-1711558800-1711566000@www.davidsrefuge.org
SUMMARY:2024 Pineview Information Session
DESCRIPTION:Join us for an information session for the 2024 Pineview Champions Challenge! \nWe are so excited for this year’s Pineview Champions Challenge for David’s Refuge!!! If you’ve ever driven\, expressed interest in driving\, or mentioned that you have friends who may want to drive in support of David’s Refuge\, we’d love to see you! \nThis year\, OneGroup is hosting an Info Session and YOU’RE INVITED! Please join us on March 27th from 5:00 – 7:00 as we share all of the details surrounding this year’s event\, and answer any questions that you\, or a friend may have. \nContact katehouck@davidsrefuge.org for more information. Feel free to invite any guests you think would be interested. No RSVP required!
URL:https://www.davidsrefuge.org/event/2024-pineview-information-session/
LOCATION:NY
CATEGORIES:DR Events
ATTACH;FMTTYPE=image/jpeg:https://www.davidsrefuge.org/wp-content/uploads/2024/03/IMG_9428-1536x1024-1.jpg
END:VEVENT
END:VCALENDAR