BEGIN:VCALENDAR
VERSION:2.0
PRODID:-//David&#039;s Refuge - ECPv6.15.17.1//NONSGML v1.0//EN
CALSCALE:GREGORIAN
METHOD:PUBLISH
X-WR-CALNAME:David&#039;s Refuge
X-ORIGINAL-URL:https://www.davidsrefuge.org
X-WR-CALDESC:Events for David&#039;s Refuge
REFRESH-INTERVAL;VALUE=DURATION:PT1H
X-Robots-Tag:noindex
X-PUBLISHED-TTL:PT1H
BEGIN:VTIMEZONE
TZID:America/New_York
BEGIN:DAYLIGHT
TZOFFSETFROM:-0500
TZOFFSETTO:-0400
TZNAME:EDT
DTSTART:20230312T070000
END:DAYLIGHT
BEGIN:STANDARD
TZOFFSETFROM:-0400
TZOFFSETTO:-0500
TZNAME:EST
DTSTART:20231105T060000
END:STANDARD
BEGIN:DAYLIGHT
TZOFFSETFROM:-0500
TZOFFSETTO:-0400
TZNAME:EDT
DTSTART:20240310T070000
END:DAYLIGHT
BEGIN:STANDARD
TZOFFSETFROM:-0400
TZOFFSETTO:-0500
TZNAME:EST
DTSTART:20241103T060000
END:STANDARD
BEGIN:DAYLIGHT
TZOFFSETFROM:-0500
TZOFFSETTO:-0400
TZNAME:EDT
DTSTART:20250309T070000
END:DAYLIGHT
BEGIN:STANDARD
TZOFFSETFROM:-0400
TZOFFSETTO:-0500
TZNAME:EST
DTSTART:20251102T060000
END:STANDARD
END:VTIMEZONE
BEGIN:VEVENT
DTSTART;TZID=America/New_York:20240620T173000
DTEND;TZID=America/New_York:20240620T193000
DTSTAMP:20260422T183804
CREATED:20240603T160954Z
LAST-MODIFIED:20240603T161230Z
UID:10000009-1718904600-1718911800@www.davidsrefuge.org
SUMMARY:Good Neighbor Day
DESCRIPTION:The goal is simple – Be the Charity who sells the most tickets and raises the most money on Good Neighbor Day and receive a $10\,000 gift from Northland Communications! \nHow can you help?!  Simple! \n\nPurchase Tickets for the Game on June 20th ($5 comes back to David’s Refuge)\nBring a crowd with you!  Share this page with family and friends\, encouraging them to purchase their tickets or make a gift.\nHost a FUN-Raiser for David’s Refuge. Check out these ideas and tips to keep it FUN and be sure to let us know how you plan to celebrate caregivers!\nWhether you’re an avid baseball fan\, or simply want to enjoy a family night out while supporting caregivers in our community this is a night for you! By supporting this effort\, you remind caregivers that they are not alone\, what they do matters and that God and our community loves them. Your Fun = Respite. Wellness. Community.
URL:https://www.davidsrefuge.org/event/good-neighbor-day/
LOCATION:NY
CATEGORIES:DR Events
ATTACH;FMTTYPE=image/jpeg:https://www.davidsrefuge.org/wp-content/uploads/2024/06/DR_EVENTS_GoodNeighborDay.jpg
END:VEVENT
BEGIN:VEVENT
DTSTART;TZID=America/New_York:20240614T173000
DTEND;TZID=America/New_York:20240614T210000
DTSTAMP:20260422T183804
CREATED:20240325T152138Z
LAST-MODIFIED:20240614T125052Z
UID:10000004-1718386200-1718398800@www.davidsrefuge.org
SUMMARY:Taste of David’s Refuge 2024
DESCRIPTION:Taste of David’s Refuge returns to Heritage Hill on June 14th of 2024!
URL:https://www.davidsrefuge.org/event/taste-of-davids-refuge-2024/
LOCATION:NY
CATEGORIES:DR Events
ATTACH;FMTTYPE=image/jpeg:https://www.davidsrefuge.org/wp-content/uploads/2024/03/DR_FEAT_EVENT_Taste24.jpg
END:VEVENT
BEGIN:VEVENT
DTSTART;TZID=America/New_York:20240327T170000
DTEND;TZID=America/New_York:20240327T190000
DTSTAMP:20260422T183804
CREATED:20240318T130122Z
LAST-MODIFIED:20240325T152258Z
UID:10000001-1711558800-1711566000@www.davidsrefuge.org
SUMMARY:2024 Pineview Information Session
DESCRIPTION:Join us for an information session for the 2024 Pineview Champions Challenge! \nWe are so excited for this year’s Pineview Champions Challenge for David’s Refuge!!! If you’ve ever driven\, expressed interest in driving\, or mentioned that you have friends who may want to drive in support of David’s Refuge\, we’d love to see you! \nThis year\, OneGroup is hosting an Info Session and YOU’RE INVITED! Please join us on March 27th from 5:00 – 7:00 as we share all of the details surrounding this year’s event\, and answer any questions that you\, or a friend may have. \nContact katehouck@davidsrefuge.org for more information. Feel free to invite any guests you think would be interested. No RSVP required!
URL:https://www.davidsrefuge.org/event/2024-pineview-information-session/
LOCATION:NY
CATEGORIES:DR Events
ATTACH;FMTTYPE=image/jpeg:https://www.davidsrefuge.org/wp-content/uploads/2024/03/IMG_9428-1536x1024-1.jpg
END:VEVENT
END:VCALENDAR