BEGIN:VCALENDAR
VERSION:2.0
PRODID:-//David&#039;s Refuge - ECPv6.15.17.1//NONSGML v1.0//EN
CALSCALE:GREGORIAN
METHOD:PUBLISH
X-ORIGINAL-URL:https://www.davidsrefuge.org
X-WR-CALDESC:Events for David&#039;s Refuge
REFRESH-INTERVAL;VALUE=DURATION:PT1H
X-Robots-Tag:noindex
X-PUBLISHED-TTL:PT1H
BEGIN:VTIMEZONE
TZID:America/New_York
BEGIN:DAYLIGHT
TZOFFSETFROM:-0500
TZOFFSETTO:-0400
TZNAME:EDT
DTSTART:20250309T070000
END:DAYLIGHT
BEGIN:STANDARD
TZOFFSETFROM:-0400
TZOFFSETTO:-0500
TZNAME:EST
DTSTART:20251102T060000
END:STANDARD
BEGIN:DAYLIGHT
TZOFFSETFROM:-0500
TZOFFSETTO:-0400
TZNAME:EDT
DTSTART:20260308T070000
END:DAYLIGHT
BEGIN:STANDARD
TZOFFSETFROM:-0400
TZOFFSETTO:-0500
TZNAME:EST
DTSTART:20261101T060000
END:STANDARD
BEGIN:DAYLIGHT
TZOFFSETFROM:-0500
TZOFFSETTO:-0400
TZNAME:EDT
DTSTART:20270314T070000
END:DAYLIGHT
BEGIN:STANDARD
TZOFFSETFROM:-0400
TZOFFSETTO:-0500
TZNAME:EST
DTSTART:20271107T060000
END:STANDARD
END:VTIMEZONE
BEGIN:VEVENT
DTSTART;VALUE=DATE:20260725
DTEND;VALUE=DATE:20260726
DTSTAMP:20260424T001111
CREATED:20260309T193802Z
LAST-MODIFIED:20260409T121637Z
UID:10000046-1784937600-1785023999@www.davidsrefuge.org
SUMMARY:Run for Refuge 5k & Fun Run
DESCRIPTION:Join us in a 5k Run\, Walk\, or Fun Run on July 25th in Marcellus! \nSign ups and donations can be made here! \nWant to go the extra mile?! Sign up as a fundraiser and ask your family\, friends\, colleagues\, and connections to donate to your team! \nQuestions? Reach out to rebekahandre@davidsrefuge.org
URL:https://www.davidsrefuge.org/event/run-for-refuge-5k-fun-run/
LOCATION:Marcellus Park\, 2443 Platt Road\, Marcellus\, NY\, 13108\, United States
CATEGORIES:Caregiver / DR Events
ATTACH;FMTTYPE=image/jpeg:https://www.davidsrefuge.org/wp-content/uploads/2026/03/DR_EVENTS_RUNFORREFUGE_2026.jpg
END:VEVENT
END:VCALENDAR