BEGIN:VCALENDAR
VERSION:2.0
PRODID:-//David&#039;s Refuge - ECPv6.15.17.1//NONSGML v1.0//EN
CALSCALE:GREGORIAN
METHOD:PUBLISH
X-ORIGINAL-URL:https://www.davidsrefuge.org
X-WR-CALDESC:Events for David&#039;s Refuge
REFRESH-INTERVAL;VALUE=DURATION:PT1H
X-Robots-Tag:noindex
X-PUBLISHED-TTL:PT1H
BEGIN:VTIMEZONE
TZID:America/New_York
BEGIN:DAYLIGHT
TZOFFSETFROM:-0500
TZOFFSETTO:-0400
TZNAME:EDT
DTSTART:20250309T070000
END:DAYLIGHT
BEGIN:STANDARD
TZOFFSETFROM:-0400
TZOFFSETTO:-0500
TZNAME:EST
DTSTART:20251102T060000
END:STANDARD
BEGIN:DAYLIGHT
TZOFFSETFROM:-0500
TZOFFSETTO:-0400
TZNAME:EDT
DTSTART:20260308T070000
END:DAYLIGHT
BEGIN:STANDARD
TZOFFSETFROM:-0400
TZOFFSETTO:-0500
TZNAME:EST
DTSTART:20261101T060000
END:STANDARD
BEGIN:DAYLIGHT
TZOFFSETFROM:-0500
TZOFFSETTO:-0400
TZNAME:EDT
DTSTART:20270314T070000
END:DAYLIGHT
BEGIN:STANDARD
TZOFFSETFROM:-0400
TZOFFSETTO:-0500
TZNAME:EST
DTSTART:20271107T060000
END:STANDARD
END:VTIMEZONE
BEGIN:VEVENT
DTSTART;TZID=America/New_York:20260301T160000
DTEND;TZID=America/New_York:20260301T190000
DTSTAMP:20260420T031656
CREATED:20260119T210556Z
LAST-MODIFIED:20260119T211126Z
UID:10000043-1772380800-1772391600@www.davidsrefuge.org
SUMMARY:Afternoon at the Crunch!
DESCRIPTION:Click here to enter our giveaway!
URL:https://www.davidsrefuge.org/event/afternoon-at-the-crunch/
LOCATION:Upstate Medical University Arena\, 515 Montgomery St\, Syracuse\, NY\, 13202\, United States
CATEGORIES:Caregiver Events
ATTACH;FMTTYPE=image/png:https://www.davidsrefuge.org/wp-content/uploads/2026/01/Dads-Event-2024.png
END:VEVENT
END:VCALENDAR